Package: HiCDOC Version: 1.8.0 Command: rm -rf HiCDOC.buildbin-libdir && mkdir HiCDOC.buildbin-libdir && F:\biocbuild\bbs-3.20-bioc\R\bin\R.exe CMD INSTALL --build --library=HiCDOC.buildbin-libdir HiCDOC_1.8.0.tar.gz StartedAt: 2025-04-01 08:23:13 -0400 (Tue, 01 Apr 2025) EndedAt: 2025-04-01 08:24:35 -0400 (Tue, 01 Apr 2025) EllapsedTime: 82.4 seconds RetCode: 0 Status: OK PackageFile: HiCDOC_1.8.0.zip PackageFileSize: 3.266 MiB