Package: HiCBricks Version: 1.24.0 Command: /Library/Frameworks/R.framework/Resources/bin/R CMD build --keep-empty-dirs --no-resave-data HiCBricks StartedAt: 2025-04-01 01:09:57 -0400 (Tue, 01 Apr 2025) EndedAt: 2025-04-01 01:11:33 -0400 (Tue, 01 Apr 2025) EllapsedTime: 96.0 seconds RetCode: 0 Status: OK PackageFile: HiCBricks_1.24.0.tar.gz PackageFileSize: 8.598 MiB