Package: Heatplus Version: 3.14.0 Command: /home/biocbuild/R/R/bin/R CMD build --keep-empty-dirs --no-resave-data Heatplus StartedAt: 2025-04-01 00:08:45 -0000 (Tue, 01 Apr 2025) EndedAt: 2025-04-01 00:09:02 -0000 (Tue, 01 Apr 2025) EllapsedTime: 17.0 seconds RetCode: 0 Status: OK PackageFile: Heatplus_3.14.0.tar.gz PackageFileSize: 1.162 MiB