Package: Heatplus Version: 3.14.0 Command: /Library/Frameworks/R.framework/Resources/bin/R CMD INSTALL Heatplus StartedAt: 2025-03-31 15:04:35 -0400 (Mon, 31 Mar 2025) EndedAt: 2025-03-31 15:04:52 -0400 (Mon, 31 Mar 2025) EllapsedTime: 17.1 seconds RetCode: 0 Status: OK