Package: Heatplus Version: 3.14.0 Command: rm -rf Heatplus.buildbin-libdir && mkdir Heatplus.buildbin-libdir && /Users/biocbuild/BBS/utils/build-universal.sh Heatplus_3.14.0.tar.gz /Library/Frameworks/R.framework/Resources/bin/R Heatplus.buildbin-libdir StartedAt: 2025-04-01 12:02:00 -0400 (Tue, 01 Apr 2025) EndedAt: 2025-04-01 12:02:08 -0400 (Tue, 01 Apr 2025) EllapsedTime: 7.7 seconds RetCode: 0 Status: OK PackageFile: Heatplus_3.14.0.tgz PackageFileSize: 1.269 MiB