Package: Heatplus Version: 3.14.0 Command: /Library/Frameworks/R.framework/Resources/bin/R CMD build --keep-empty-dirs --no-resave-data Heatplus StartedAt: 2025-04-01 01:06:30 -0400 (Tue, 01 Apr 2025) EndedAt: 2025-04-01 01:06:56 -0400 (Tue, 01 Apr 2025) EllapsedTime: 26.4 seconds RetCode: 0 Status: OK PackageFile: Heatplus_3.14.0.tar.gz PackageFileSize: 1.179 MiB