Package: Harshlight Version: 1.78.0 Command: chmod a+r Harshlight -R && F:\biocbuild\bbs-3.20-bioc\R\bin\R.exe CMD build --keep-empty-dirs --no-resave-data Harshlight StartedAt: 2025-03-31 19:28:35 -0400 (Mon, 31 Mar 2025) EndedAt: 2025-03-31 19:29:07 -0400 (Mon, 31 Mar 2025) EllapsedTime: 32.6 seconds RetCode: 0 Status: OK PackageFile: Harshlight_1.78.0.tar.gz PackageFileSize: 173.9 KiB