Package: HarmonizR Version: 1.4.0 Command: /home/biocbuild/R/R/bin/R CMD build --keep-empty-dirs --no-resave-data HarmonizR StartedAt: 2025-04-01 00:07:34 -0000 (Tue, 01 Apr 2025) EndedAt: 2025-04-01 00:07:54 -0000 (Tue, 01 Apr 2025) EllapsedTime: 20.0 seconds RetCode: 0 Status: OK PackageFile: HarmonizR_1.4.0.tar.gz PackageFileSize: 51.32 KiB