Package: HarmonizR Version: 1.4.0 Command: /home/biocbuild/bbs-3.20-bioc/R/bin/R CMD check --install=check:HarmonizR.install-out.txt --library=/home/biocbuild/bbs-3.20-bioc/R/site-library --timings HarmonizR_1.4.0.tar.gz StartedAt: 2025-03-31 22:51:57 -0400 (Mon, 31 Mar 2025) EndedAt: 2025-03-31 22:52:56 -0400 (Mon, 31 Mar 2025) EllapsedTime: 59.0 seconds RetCode: 0 Status: OK CheckDir: HarmonizR.Rcheck Warnings: 0