Package: Harman Version: 1.34.0 Command: /home/biocbuild/R/R/bin/R CMD INSTALL Harman StartedAt: 2025-03-31 20:15:49 -0000 (Mon, 31 Mar 2025) EndedAt: 2025-03-31 20:16:16 -0000 (Mon, 31 Mar 2025) EllapsedTime: 27.6 seconds RetCode: 0 Status: OK