Package: Harman Version: 1.34.0 Command: /home/biocbuild/R/R/bin/R CMD build --keep-empty-dirs --no-resave-data Harman StartedAt: 2025-04-01 00:07:29 -0000 (Tue, 01 Apr 2025) EndedAt: 2025-04-01 00:10:38 -0000 (Tue, 01 Apr 2025) EllapsedTime: 189.0 seconds RetCode: 0 Status: OK PackageFile: Harman_1.34.0.tar.gz PackageFileSize: 1.132 MiB