Package: Harman Version: 1.34.0 Command: chmod a+r Harman -R && F:\biocbuild\bbs-3.20-bioc\R\bin\R.exe CMD build --keep-empty-dirs --no-resave-data Harman StartedAt: 2025-03-31 19:28:28 -0400 (Mon, 31 Mar 2025) EndedAt: 2025-03-31 19:32:02 -0400 (Mon, 31 Mar 2025) EllapsedTime: 213.1 seconds RetCode: 0 Status: OK PackageFile: Harman_1.34.0.tar.gz PackageFileSize: 843.7 KiB