Package: HTSeqGenie Version: 4.36.0 Command: /home/biocbuild/bbs-3.20-bioc/R/bin/R CMD check --install=check:HTSeqGenie.install-out.txt --library=/home/biocbuild/bbs-3.20-bioc/R/site-library --timings HTSeqGenie_4.36.0.tar.gz StartedAt: 2025-03-31 23:01:38 -0400 (Mon, 31 Mar 2025) EndedAt: 2025-03-31 23:41:39 -0400 (Mon, 31 Mar 2025) EllapsedTime: 2400.8 seconds RetCode: None Status: TIMEOUT CheckDir: HTSeqGenie.Rcheck Warnings: NA