Package: HTSeqGenie Version: 4.36.0 Command: /home/biocbuild/bbs-3.20-bioc/R/bin/R CMD build --keep-empty-dirs --no-resave-data --md5 HTSeqGenie StartedAt: 2025-03-31 17:38:59 -0400 (Mon, 31 Mar 2025) EndedAt: 2025-03-31 17:41:31 -0400 (Mon, 31 Mar 2025) EllapsedTime: 152.3 seconds RetCode: 0 Status: OK PackageFile: HTSeqGenie_4.36.0.tar.gz PackageFileSize: 2.898 MiB