Package: HPAanalyze Version: 1.24.0 Command: /home/biocbuild/R/R/bin/R CMD check --install=check:HPAanalyze.install-out.txt --library=/home/biocbuild/R/R/site-library --no-vignettes --timings HPAanalyze_1.24.0.tar.gz StartedAt: 2025-04-01 07:24:12 -0000 (Tue, 01 Apr 2025) EndedAt: 2025-04-01 07:25:25 -0000 (Tue, 01 Apr 2025) EllapsedTime: 73.0 seconds RetCode: 0 Status: OK CheckDir: HPAanalyze.Rcheck Warnings: 0