Package: HPAanalyze Version: 1.24.0 Command: F:\biocbuild\bbs-3.20-bioc\R\bin\R.exe CMD check --no-multiarch --install=check:HPAanalyze.install-out.txt --library=F:\biocbuild\bbs-3.20-bioc\R\library --no-vignettes --timings HPAanalyze_1.24.0.tar.gz StartedAt: 2025-04-01 02:30:36 -0400 (Tue, 01 Apr 2025) EndedAt: 2025-04-01 02:32:14 -0400 (Tue, 01 Apr 2025) EllapsedTime: 98.1 seconds RetCode: 0 Status: OK CheckDir: HPAanalyze.Rcheck Warnings: 0