Package: HPAanalyze Version: 1.24.0 Command: rm -rf HPAanalyze.buildbin-libdir && mkdir HPAanalyze.buildbin-libdir && F:\biocbuild\bbs-3.20-bioc\R\bin\R.exe CMD INSTALL --build --library=HPAanalyze.buildbin-libdir HPAanalyze_1.24.0.tar.gz StartedAt: 2025-04-01 08:24:13 -0400 (Tue, 01 Apr 2025) EndedAt: 2025-04-01 08:25:01 -0400 (Tue, 01 Apr 2025) EllapsedTime: 48.0 seconds RetCode: 0 Status: OK PackageFile: HPAanalyze_1.24.0.zip PackageFileSize: 6.66 MiB