Package: HPAanalyze Version: 1.24.0 Command: /Library/Frameworks/R.framework/Resources/bin/R CMD INSTALL HPAanalyze StartedAt: 2025-03-31 17:59:45 -0400 (Mon, 31 Mar 2025) EndedAt: 2025-03-31 18:00:26 -0400 (Mon, 31 Mar 2025) EllapsedTime: 40.6 seconds RetCode: 0 Status: OK