Package: HPAanalyze Version: 1.24.0 Command: /Library/Frameworks/R.framework/Resources/bin/R CMD build --keep-empty-dirs --no-resave-data HPAanalyze StartedAt: 2025-04-01 01:20:30 -0400 (Tue, 01 Apr 2025) EndedAt: 2025-04-01 01:21:34 -0400 (Tue, 01 Apr 2025) EllapsedTime: 64.3 seconds RetCode: 0 Status: OK PackageFile: HPAanalyze_1.24.0.tar.gz PackageFileSize: 6.918 MiB