Package: HMMcopy Version: 1.48.0 Command: F:\biocbuild\bbs-3.20-bioc\R\bin\R.exe CMD INSTALL HMMcopy StartedAt: 2025-03-31 15:22:25 -0400 (Mon, 31 Mar 2025) EndedAt: 2025-03-31 15:22:41 -0400 (Mon, 31 Mar 2025) EllapsedTime: 16.1 seconds RetCode: 0 Status: OK