Package: HMMcopy Version: 1.48.0 Command: /home/biocbuild/bbs-3.20-bioc/R/bin/R CMD build --keep-empty-dirs --no-resave-data --md5 HMMcopy StartedAt: 2025-03-31 17:38:21 -0400 (Mon, 31 Mar 2025) EndedAt: 2025-03-31 17:38:33 -0400 (Mon, 31 Mar 2025) EllapsedTime: 12.0 seconds RetCode: 0 Status: OK PackageFile: HMMcopy_1.48.0.tar.gz PackageFileSize: 2.183 MiB