Package: HIPPO Version: 1.18.0 Command: /home/biocbuild/R/R/bin/R CMD check --install=check:HIPPO.install-out.txt --library=/home/biocbuild/R/R/site-library --no-vignettes --timings HIPPO_1.18.0.tar.gz StartedAt: 2025-04-01 07:22:44 -0000 (Tue, 01 Apr 2025) EndedAt: 2025-04-01 07:26:45 -0000 (Tue, 01 Apr 2025) EllapsedTime: 241.2 seconds RetCode: 0 Status: OK CheckDir: HIPPO.Rcheck Warnings: 0