Package: HIPPO Version: 1.18.0 Command: chmod a+r HIPPO -R && F:\biocbuild\bbs-3.20-bioc\R\bin\R.exe CMD build --keep-empty-dirs --no-resave-data HIPPO StartedAt: 2025-03-31 19:32:07 -0400 (Mon, 31 Mar 2025) EndedAt: 2025-03-31 19:33:37 -0400 (Mon, 31 Mar 2025) EllapsedTime: 89.7 seconds RetCode: 0 Status: OK PackageFile: HIPPO_1.18.0.tar.gz PackageFileSize: 508.1 KiB