Package: HIPPO Version: 1.18.0 Command: /Library/Frameworks/R.framework/Resources/bin/R CMD INSTALL HIPPO StartedAt: 2025-03-31 15:20:47 -0400 (Mon, 31 Mar 2025) EndedAt: 2025-03-31 15:21:39 -0400 (Mon, 31 Mar 2025) EllapsedTime: 52.3 seconds RetCode: 0 Status: OK