Package: HIBAG Version: 1.42.0 Command: /home/biocbuild/R/R/bin/R CMD INSTALL HIBAG StartedAt: 2025-03-31 20:11:03 -0000 (Mon, 31 Mar 2025) EndedAt: 2025-03-31 20:11:35 -0000 (Mon, 31 Mar 2025) EllapsedTime: 31.3 seconds RetCode: 0 Status: OK