Package: HIBAG Version: 1.42.0 Command: /home/biocbuild/R/R/bin/R CMD build --keep-empty-dirs --no-resave-data HIBAG StartedAt: 2025-04-01 00:09:23 -0000 (Tue, 01 Apr 2025) EndedAt: 2025-04-01 00:10:12 -0000 (Tue, 01 Apr 2025) EllapsedTime: 49.0 seconds RetCode: 0 Status: OK PackageFile: HIBAG_1.42.0.tar.gz PackageFileSize: 1.457 MiB