Package: HIBAG Version: 1.42.0 Command: chmod a+r HIBAG -R && F:\biocbuild\bbs-3.20-bioc\R\bin\R.exe CMD build --keep-empty-dirs --no-resave-data HIBAG StartedAt: 2025-03-31 19:30:11 -0400 (Mon, 31 Mar 2025) EndedAt: 2025-03-31 19:31:27 -0400 (Mon, 31 Mar 2025) EllapsedTime: 76.7 seconds RetCode: 0 Status: OK PackageFile: HIBAG_1.42.0.tar.gz PackageFileSize: 1.286 MiB