Package: HIBAG Version: 1.42.0 Command: rm -rf HIBAG.buildbin-libdir && mkdir HIBAG.buildbin-libdir && F:\biocbuild\bbs-3.20-bioc\R\bin\R.exe CMD INSTALL --build --library=HIBAG.buildbin-libdir HIBAG_1.42.0.tar.gz StartedAt: 2025-04-01 08:23:01 -0400 (Tue, 01 Apr 2025) EndedAt: 2025-04-01 08:24:13 -0400 (Tue, 01 Apr 2025) EllapsedTime: 71.9 seconds RetCode: 0 Status: OK PackageFile: HIBAG_1.42.0.zip PackageFileSize: 1.997 MiB