Package: HERON Version: 1.4.0 Command: /home/biocbuild/bbs-3.20-bioc/R/bin/R CMD check --install=check:HERON.install-out.txt --library=/home/biocbuild/bbs-3.20-bioc/R/site-library --timings HERON_1.4.0.tar.gz StartedAt: 2025-03-31 22:54:15 -0400 (Mon, 31 Mar 2025) EndedAt: 2025-03-31 23:00:22 -0400 (Mon, 31 Mar 2025) EllapsedTime: 366.4 seconds RetCode: 0 Status: OK CheckDir: HERON.Rcheck Warnings: 0