Package: HDTD Version: 1.40.0 Command: /Library/Frameworks/R.framework/Resources/bin/R CMD build --keep-empty-dirs --no-resave-data HDTD StartedAt: 2025-03-31 19:16:27 -0400 (Mon, 31 Mar 2025) EndedAt: 2025-03-31 19:17:16 -0400 (Mon, 31 Mar 2025) EllapsedTime: 49.0 seconds RetCode: 0 Status: OK PackageFile: HDTD_1.40.0.tar.gz PackageFileSize: 162.8 KiB