Package: HDF5Array Version: 1.34.0 Command: F:\biocbuild\bbs-3.20-bioc\R\bin\R.exe CMD check --no-multiarch --install=check:HDF5Array.install-out.txt --library=F:\biocbuild\bbs-3.20-bioc\R\library --no-vignettes --timings HDF5Array_1.34.0.tar.gz StartedAt: 2025-04-01 02:21:05 -0400 (Tue, 01 Apr 2025) EndedAt: 2025-04-01 02:32:26 -0400 (Tue, 01 Apr 2025) EllapsedTime: 680.8 seconds RetCode: 0 Status: WARNINGS CheckDir: HDF5Array.Rcheck Warnings: 1