Package: HDF5Array Version: 1.34.0 Command: rm -rf HDF5Array.buildbin-libdir && mkdir HDF5Array.buildbin-libdir && F:\biocbuild\bbs-3.20-bioc\R\bin\R.exe CMD INSTALL --build --library=HDF5Array.buildbin-libdir HDF5Array_1.34.0.tar.gz StartedAt: 2025-04-01 08:22:27 -0400 (Tue, 01 Apr 2025) EndedAt: 2025-04-01 08:24:29 -0400 (Tue, 01 Apr 2025) EllapsedTime: 121.4 seconds RetCode: 0 Status: OK PackageFile: HDF5Array_1.34.0.zip PackageFileSize: 11.16 MiB