Package: Gviz Version: 1.50.0 Command: /home/biocbuild/R/R/bin/R CMD check --install=check:Gviz.install-out.txt --library=/home/biocbuild/R/R/site-library --no-vignettes --timings Gviz_1.50.0.tar.gz StartedAt: 2025-04-01 07:13:48 -0000 (Tue, 01 Apr 2025) EndedAt: 2025-04-01 07:23:37 -0000 (Tue, 01 Apr 2025) EllapsedTime: 588.6 seconds RetCode: 0 Status: OK CheckDir: Gviz.Rcheck Warnings: 0