Package: Gviz Version: 1.50.0 Command: /Library/Frameworks/R.framework/Resources/bin/R CMD check --install=check:Gviz.install-out.txt --library=/Library/Frameworks/R.framework/Resources/library --no-vignettes --timings Gviz_1.50.0.tar.gz StartedAt: 2025-04-01 04:03:55 -0400 (Tue, 01 Apr 2025) EndedAt: 2025-04-01 04:21:37 -0400 (Tue, 01 Apr 2025) EllapsedTime: 1062.7 seconds RetCode: 0 Status: OK CheckDir: Gviz.Rcheck Warnings: 0