Package: Gviz Version: 1.50.0 Command: /Library/Frameworks/R.framework/Resources/bin/R CMD INSTALL Gviz StartedAt: 2025-03-31 16:41:01 -0400 (Mon, 31 Mar 2025) EndedAt: 2025-03-31 16:42:14 -0400 (Mon, 31 Mar 2025) EllapsedTime: 73.1 seconds RetCode: 0 Status: OK