Package: Gviz Version: 1.50.0 Command: /Library/Frameworks/R.framework/Resources/bin/R CMD build --keep-empty-dirs --no-resave-data Gviz StartedAt: 2025-04-01 00:57:25 -0400 (Tue, 01 Apr 2025) EndedAt: 2025-04-01 01:01:14 -0400 (Tue, 01 Apr 2025) EllapsedTime: 229.3 seconds RetCode: 0 Status: OK PackageFile: Gviz_1.50.0.tar.gz PackageFileSize: 7.779 MiB