Package: Guitar Version: 2.22.0 Command: /home/biocbuild/bbs-3.20-bioc/R/bin/R CMD check --install=check:Guitar.install-out.txt --library=/home/biocbuild/bbs-3.20-bioc/R/site-library --timings Guitar_2.22.0.tar.gz StartedAt: 2025-03-31 22:48:55 -0400 (Mon, 31 Mar 2025) EndedAt: 2025-03-31 23:03:59 -0400 (Mon, 31 Mar 2025) EllapsedTime: 904.3 seconds RetCode: 0 Status: OK CheckDir: Guitar.Rcheck Warnings: 0