Package: Guitar Version: 2.22.0 Command: rm -rf Guitar.buildbin-libdir && mkdir Guitar.buildbin-libdir && /Users/biocbuild/BBS/utils/build-universal.sh Guitar_2.22.0.tar.gz /Library/Frameworks/R.framework/Resources/bin/R Guitar.buildbin-libdir StartedAt: 2025-04-01 12:01:21 -0400 (Tue, 01 Apr 2025) EndedAt: 2025-04-01 12:02:38 -0400 (Tue, 01 Apr 2025) EllapsedTime: 77.0 seconds RetCode: 0 Status: OK PackageFile: Guitar_2.22.0.tgz PackageFileSize: 3.783 MiB