Package: GreyListChIP Version: 1.38.0 Command: /Library/Frameworks/R.framework/Resources/bin/R CMD build --keep-empty-dirs --no-resave-data GreyListChIP StartedAt: 2025-03-31 19:08:44 -0400 (Mon, 31 Mar 2025) EndedAt: 2025-03-31 19:10:26 -0400 (Mon, 31 Mar 2025) EllapsedTime: 102.5 seconds RetCode: 0 Status: OK PackageFile: GreyListChIP_1.38.0.tar.gz PackageFileSize: 341.4 KiB