Package: GraphPAC Version: 1.48.0 Command: /home/biocbuild/R/R/bin/R CMD INSTALL GraphPAC StartedAt: 2025-03-31 20:57:35 -0000 (Mon, 31 Mar 2025) EndedAt: 2025-03-31 20:57:53 -0000 (Mon, 31 Mar 2025) EllapsedTime: 18.5 seconds RetCode: 0 Status: OK