Package: GraphPAC Version: 1.48.0 Command: /home/biocbuild/R/R/bin/R CMD check --install=check:GraphPAC.install-out.txt --library=/home/biocbuild/R/R/site-library --no-vignettes --timings GraphPAC_1.48.0.tar.gz StartedAt: 2025-04-01 07:10:00 -0000 (Tue, 01 Apr 2025) EndedAt: 2025-04-01 07:11:16 -0000 (Tue, 01 Apr 2025) EllapsedTime: 76.1 seconds RetCode: 0 Status: OK CheckDir: GraphPAC.Rcheck Warnings: 0