Package: GraphPAC Version: 1.48.0 Command: /home/biocbuild/R/R/bin/R CMD build --keep-empty-dirs --no-resave-data GraphPAC StartedAt: 2025-04-01 00:00:03 -0000 (Tue, 01 Apr 2025) EndedAt: 2025-04-01 00:02:00 -0000 (Tue, 01 Apr 2025) EllapsedTime: 117.1 seconds RetCode: 0 Status: OK PackageFile: GraphPAC_1.48.0.tar.gz PackageFileSize: 698.1 KiB