Package: GraphPAC Version: 1.48.0 Command: chmod a+r GraphPAC -R && F:\biocbuild\bbs-3.20-bioc\R\bin\R.exe CMD build --keep-empty-dirs --no-resave-data GraphPAC StartedAt: 2025-03-31 19:22:48 -0400 (Mon, 31 Mar 2025) EndedAt: 2025-03-31 19:24:21 -0400 (Mon, 31 Mar 2025) EllapsedTime: 93.1 seconds RetCode: 0 Status: OK PackageFile: GraphPAC_1.48.0.tar.gz PackageFileSize: 543.2 KiB