Package: GraphPAC Version: 1.48.0 Command: /Library/Frameworks/R.framework/Resources/bin/R CMD INSTALL GraphPAC StartedAt: 2025-03-31 16:17:10 -0400 (Mon, 31 Mar 2025) EndedAt: 2025-03-31 16:17:41 -0400 (Mon, 31 Mar 2025) EllapsedTime: 31.8 seconds RetCode: 0 Status: OK