Package: GraphAT Version: 1.78.0 Command: chmod a+r GraphAT -R && F:\biocbuild\bbs-3.20-bioc\R\bin\R.exe CMD build --keep-empty-dirs --no-resave-data GraphAT StartedAt: 2025-03-31 19:22:43 -0400 (Mon, 31 Mar 2025) EndedAt: 2025-03-31 19:22:48 -0400 (Mon, 31 Mar 2025) EllapsedTime: 4.7 seconds RetCode: 0 Status: OK PackageFile: GraphAT_1.78.0.tar.gz PackageFileSize: 1.884 MiB