Package: GrafGen Version: 1.2.0 Command: /Library/Frameworks/R.framework/Resources/bin/R CMD check --install=check:GrafGen.install-out.txt --library=/Library/Frameworks/R.framework/Resources/library --no-vignettes --timings GrafGen_1.2.0.tar.gz StartedAt: 2025-04-01 03:54:12 -0400 (Tue, 01 Apr 2025) EndedAt: 2025-04-01 03:57:59 -0400 (Tue, 01 Apr 2025) EllapsedTime: 227.0 seconds RetCode: 0 Status: OK CheckDir: GrafGen.Rcheck Warnings: 0