Package: GrafGen Version: 1.2.0 Command: /Library/Frameworks/R.framework/Resources/bin/R CMD build --keep-empty-dirs --no-resave-data GrafGen StartedAt: 2025-03-31 19:07:18 -0400 (Mon, 31 Mar 2025) EndedAt: 2025-03-31 19:08:37 -0400 (Mon, 31 Mar 2025) EllapsedTime: 78.4 seconds RetCode: 0 Status: OK PackageFile: GrafGen_1.2.0.tar.gz PackageFileSize: 3.103 MiB