Package: GrafGen Version: 1.2.0 Command: /Library/Frameworks/R.framework/Resources/bin/R CMD INSTALL GrafGen StartedAt: 2025-03-31 18:08:47 -0400 (Mon, 31 Mar 2025) EndedAt: 2025-03-31 18:09:13 -0400 (Mon, 31 Mar 2025) EllapsedTime: 26.4 seconds RetCode: 0 Status: OK