Package: GrafGen Version: 1.2.0 Command: rm -rf GrafGen.buildbin-libdir && mkdir GrafGen.buildbin-libdir && /Users/biocbuild/BBS/utils/build-universal.sh GrafGen_1.2.0.tar.gz /Library/Frameworks/R.framework/Resources/bin/R GrafGen.buildbin-libdir StartedAt: 2025-04-02 14:37:38 -0400 (Wed, 02 Apr 2025) EndedAt: 2025-04-02 14:38:08 -0400 (Wed, 02 Apr 2025) EllapsedTime: 30.0 seconds RetCode: 0 Status: OK PackageFile: GrafGen_1.2.0.tgz PackageFileSize: 3.213 MiB