Package: GmicR Version: 1.20.0 Command: /home/biocbuild/R/R/bin/R CMD INSTALL GmicR StartedAt: 2025-03-31 20:54:41 -0000 (Mon, 31 Mar 2025) EndedAt: 2025-03-31 20:55:16 -0000 (Mon, 31 Mar 2025) EllapsedTime: 35.0 seconds RetCode: 0 Status: OK